BEGIN:VCALENDAR
VERSION:2.0
PRODID:-//Windsor Island Resort - ECPv6.15.19//NONSGML v1.0//EN
CALSCALE:GREGORIAN
METHOD:PUBLISH
X-ORIGINAL-URL:https://windsorislandresorthoa.com
X-WR-CALDESC:Events for Windsor Island Resort
REFRESH-INTERVAL;VALUE=DURATION:PT1H
X-Robots-Tag:noindex
X-PUBLISHED-TTL:PT1H
BEGIN:VTIMEZONE
TZID:America/New_York
BEGIN:DAYLIGHT
TZOFFSETFROM:-0500
TZOFFSETTO:-0400
TZNAME:EDT
DTSTART:20250309T070000
END:DAYLIGHT
BEGIN:STANDARD
TZOFFSETFROM:-0400
TZOFFSETTO:-0500
TZNAME:EST
DTSTART:20251102T060000
END:STANDARD
BEGIN:DAYLIGHT
TZOFFSETFROM:-0500
TZOFFSETTO:-0400
TZNAME:EDT
DTSTART:20260308T070000
END:DAYLIGHT
BEGIN:STANDARD
TZOFFSETFROM:-0400
TZOFFSETTO:-0500
TZNAME:EST
DTSTART:20261101T060000
END:STANDARD
BEGIN:DAYLIGHT
TZOFFSETFROM:-0500
TZOFFSETTO:-0400
TZNAME:EDT
DTSTART:20270314T070000
END:DAYLIGHT
BEGIN:STANDARD
TZOFFSETFROM:-0400
TZOFFSETTO:-0500
TZNAME:EST
DTSTART:20271107T060000
END:STANDARD
END:VTIMEZONE
BEGIN:VEVENT
DTSTART;TZID=America/New_York:20260328T200000
DTEND;TZID=America/New_York:20260328T220000
DTSTAMP:20260420T112723
CREATED:20260317T180207Z
LAST-MODIFIED:20260317T180207Z
UID:10000002-1774728000-1774735200@windsorislandresorthoa.com
SUMMARY:Windsor Island Foam Bash
DESCRIPTION:Windsor Island Foam Bash 🫧🎧 \nGet ready for an electrifying night of music\, foam\, and glowing fun at the Windsor Island Foam Bash! Join us on March 21st and March 28th from 8:00 PM – 10:00 PM at the Blue Marlin Turf (next to the bar) for a high-energy party perfect for all ages. \nDance the night away with a live DJ spinning your favorite beats\, enjoy a high-energy foam party\, and watch an incredible LED stilt walker light up the night. Food and beverages will be available for purchase\, along with Dippin’ Dots and refreshing sno-cones to keep the fun going. \nBring your friends and family and experience one of the most exciting nights at the resort! 🌴✨
URL:https://windsorislandresorthoa.com/event/windsor-island-foam-bash-2/
LOCATION:Windsor Island Resort\, 1115 Aloha Blvd\, Davenport\, Florida\, 33897\, United States
ATTACH;FMTTYPE=image/png:https://windsorislandresorthoa.com/wp-content/uploads/2026/03/March-2128-Event-2.png
END:VEVENT
BEGIN:VEVENT
DTSTART;TZID=America/New_York:20260321T200000
DTEND;TZID=America/New_York:20260321T220000
DTSTAMP:20260420T112723
CREATED:20260317T175206Z
LAST-MODIFIED:20260317T180343Z
UID:10000001-1774123200-1774130400@windsorislandresorthoa.com
SUMMARY:Windsor Island Foam Bash
DESCRIPTION:Windsor Island Foam Bash 🫧🎧 \nGet ready for an electrifying night of music\, foam\, and glowing fun at the Windsor Island Foam Bash! Join us on March 21st and March 28th from 8:00 PM – 10:00 PM at the Blue Marlin Turf (next to the bar) for a high-energy party perfect for all ages. \nDance the night away with a live DJ spinning your favorite beats\, enjoy a high-energy foam party\, and watch an incredible LED stilt walker light up the night. Food and beverages will be available for purchase\, along with Dippin’ Dots and refreshing sno-cones to keep the fun going. \nBring your friends and family and experience one of the most exciting nights at the resort! 🌴✨
URL:https://windsorislandresorthoa.com/event/windsor-island-foam-bash/
LOCATION:Windsor Island Resort\, 1115 Aloha Blvd\, Davenport\, Florida\, 33897\, United States
ATTACH;FMTTYPE=image/png:https://windsorislandresorthoa.com/wp-content/uploads/2026/03/March-2128-Event-2.png
END:VEVENT
END:VCALENDAR